BEGIN:VCALENDAR
VERSION:2.0
PRODID:-//T&#039;Pau Central - ECPv6.15.20//NONSGML v1.0//EN
CALSCALE:GREGORIAN
METHOD:PUBLISH
X-ORIGINAL-URL:https://tpau.co.uk
X-WR-CALDESC:Events for T&#039;Pau Central
REFRESH-INTERVAL;VALUE=DURATION:PT1H
X-Robots-Tag:noindex
X-PUBLISHED-TTL:PT1H
BEGIN:VTIMEZONE
TZID:UTC
BEGIN:STANDARD
TZOFFSETFROM:+0000
TZOFFSETTO:+0000
TZNAME:UTC
DTSTART:20240101T000000
END:STANDARD
END:VTIMEZONE
BEGIN:VEVENT
DTSTART;TZID=UTC:20250918T190000
DTEND;TZID=UTC:20250918T190000
DTSTAMP:20260424T195122
CREATED:20250309T031949Z
LAST-MODIFIED:20250309T031949Z
UID:10000017-1758222000-1758222000@tpau.co.uk
SUMMARY:Roadmender
DESCRIPTION:
URL:https://tpau.co.uk/event/roadmender/
LOCATION:Roadmender\, 1 Ladys Lane\, Northampton\, NN1 3AH\, United Kingdom
END:VEVENT
BEGIN:VEVENT
DTSTART;TZID=UTC:20250926T190000
DTEND;TZID=UTC:20250926T190000
DTSTAMP:20260424T195122
CREATED:20250224T195335Z
LAST-MODIFIED:20250806T112220Z
UID:10000012-1758913200-1758913200@tpau.co.uk
SUMMARY:Trading Boundaries
DESCRIPTION:
URL:https://tpau.co.uk/event/trading-boundaries/
LOCATION:Trading Boundaries\, Sheffield Green\, East Sussex\, TN22 3RB\, United Kingdom
END:VEVENT
END:VCALENDAR